BEGIN:VCALENDAR
VERSION:2.0
PRODID:Village of Bartlett Calendar Creator
METHOD:PUBLISH
BEGIN:VEVENT
DTSTAMP:20260408T090420
DTSTART:20260407T190000
DTEND:20260407T235900
SUMMARY:Village Board Meeting
DESCRIPTION:<p><a href="https://events.gcc.teams.microsoft.com/event/befbcedf-782f-45a7-96ed-404ef29b4f4e@21507938-f8db-4d6e-9c24-a5dbcbaf121e" target="_blank" rel="noopener">Attend via Microsoft Teams</a></p><p><a href="https://bartlett.prod-as.govaccess.org/home/showpublisheddocument/16107/639106480131230000" target="_blank" rel="noopener">Village Board Meeting Packet</a></p><p><a href="https://youtu.be/M9JMKVgAhVI" target="_blank" rel="noopener">Meeting Audio Recording</a></p>
X-ALT-DESC;FMTTYPE=text/html:<p><a href="https://events.gcc.teams.microsoft.com/event/befbcedf-782f-45a7-96ed-404ef29b4f4e@21507938-f8db-4d6e-9c24-a5dbcbaf121e" target="_blank" rel="noopener">Attend via Microsoft Teams</a></p><p><a href="https://bartlett.prod-as.govaccess.org/home/showpublisheddocument/16107/639106480131230000" target="_blank" rel="noopener">Village Board Meeting Packet</a></p><p><a href="https://youtu.be/M9JMKVgAhVI" target="_blank" rel="noopener">Meeting Audio Recording</a></p>
LOCATION:Bartlett Village Hall\, 228 S. Main Street Bartlett\, Illinois 60103
CLASS:PUBLIC
END:VEVENT
END:VCALENDAR
