BEGIN:VCALENDAR
VERSION:2.0
PRODID:Village of Bartlett Calendar Creator
METHOD:PUBLISH
BEGIN:VEVENT
DTSTAMP:20260311T070606
DTSTART:20260310T190000
DTEND:20260310T235900
SUMMARY:Village Board Meeting
DESCRIPTION:<p><a href="https://events.gcc.teams.microsoft.com/event/3c41cb75-1ffb-4ffc-a7c4-d9ba67964765@21507938-f8db-4d6e-9c24-a5dbcbaf121e" target="_blank" rel="noopener">Attend via Microsoft Teams</a></p><p>&nbsp;</p><p><a href="https://bartlett.prod-as.govaccess.org/home/showpublisheddocument/16059/639084032749670000" target="_blank" rel="noopener">Village Board Meeting Packet</a></p><p><a href="https://youtu.be/rGNWAUSCphk" target="_blank" rel="noopener">&nbsp;Meeting Audio Recording</a></p>
X-ALT-DESC;FMTTYPE=text/html:<p><a href="https://events.gcc.teams.microsoft.com/event/3c41cb75-1ffb-4ffc-a7c4-d9ba67964765@21507938-f8db-4d6e-9c24-a5dbcbaf121e" target="_blank" rel="noopener">Attend via Microsoft Teams</a></p><p>&nbsp;</p><p><a href="https://bartlett.prod-as.govaccess.org/home/showpublisheddocument/16059/639084032749670000" target="_blank" rel="noopener">Village Board Meeting Packet</a></p><p><a href="https://youtu.be/rGNWAUSCphk" target="_blank" rel="noopener">&nbsp;Meeting Audio Recording</a></p>
LOCATION:Bartlett Village Hall\, 228 S. Main Street Bartlett\, Illinois 60103
CLASS:PUBLIC
END:VEVENT
END:VCALENDAR
