BEGIN:VCALENDAR
VERSION:2.0
PRODID:Village of Bartlett Calendar Creator
METHOD:PUBLISH
BEGIN:VEVENT
DTSTAMP:20190814T135435
DTSTART:20190912T110000
DTEND:20190912T150000
SUMMARY:"Just For the Health of It" Health & Wellness Expo
DESCRIPTION:This free, community health and wellness expo from Hanover Township will feature more than a dozen FREE health screenings for bone density, veins, vision and more.Township residents also will be able to participate in raffles and free chair massages along with the kids zone with face painting, bouncy castle and more. For questions, please contact the Hanover Township Office of Community Health, 630-483-5665 or visit www.just4thehealthofit.org.&nbsp;
X-ALT-DESC;FMTTYPE=text/html:This free, community health and wellness expo from Hanover Township will feature more than a dozen FREE health screenings for bone density, veins, vision and more.Township residents also will be able to participate in raffles and free chair massages along with the kids zone with face painting, bouncy castle and more. For questions, please contact the Hanover Township Office of Community Health, 630-483-5665 or visit www.just4thehealthofit.org.&nbsp;
LOCATION:Hanover Township\, 250 S. IL Route 59 Bartlett\, Illinois 60103
CLASS:PUBLIC
END:VEVENT
END:VCALENDAR
