BEGIN:VCALENDAR
VERSION:2.0
PRODID:Village of Bartlett Calendar Creator
METHOD:PUBLISH
BEGIN:VEVENT
DTSTAMP:20190423T072711
DTSTART:20190425T183000
DTEND:20190425T203000
SUMMARY:100 "Must Know" Artworks
DESCRIPTION:On Thursdays at 6:30 p.m. from April 25 through June 27, Sigrid Wonsil, artist and teacher at Elgin Community College, offers 10 sessions that cover “100 MUST KNOW Artworks.” If you’ve ever been curious about what makes a piece of art worth millions and its artist world famous, she will show through slides and movie clips examples of paintings, sculpture, architecture and photography of significance and reveal some little known facts about their creators. Reservations are required.  You can take single sessions for $10 for Arts in Bartlett members; $15 for nonmembers or sign up for the whole 10 series on the ticket Page of <a href="http://www.artsinbartlett.org" target="_blank">www.artsinbartlett.org</a>
X-ALT-DESC;FMTTYPE=text/html:On Thursdays at 6:30 p.m. from April 25 through June 27, Sigrid Wonsil, artist and teacher at Elgin Community College, offers 10 sessions that cover “100 MUST KNOW Artworks.” If you’ve ever been curious about what makes a piece of art worth millions and its artist world famous, she will show through slides and movie clips examples of paintings, sculpture, architecture and photography of significance and reveal some little known facts about their creators. Reservations are required.  You can take single sessions for $10 for Arts in Bartlett members; $15 for nonmembers or sign up for the whole 10 series on the ticket Page of <a href="http://www.artsinbartlett.org" target="_blank">www.artsinbartlett.org</a>
LOCATION:Arts in Bartrlett\, 215 S. Main St. Bartlett\, Illinois 60103
CLASS:PUBLIC
END:VEVENT
END:VCALENDAR
