BEGIN:VCALENDAR
VERSION:2.0
PRODID:Village of Bartlett Calendar Creator
METHOD:PUBLISH
BEGIN:VEVENT
DTSTAMP:20190417T112637
DTSTART:20190427T190000
DTEND:20190427T235900
SUMMARY:“Afraid of My Own Strength in A Minor” - evening of rhythm & rhyme
DESCRIPTION:Reggie Legend is back at Arts in Bartlett for another night of rhythm &amp; poetry...and this time, he's joined by local professional cellist Dorothy Deen, who will be doing jazz improvisation in A Minor. Legend will be reading a piece from his first book of poetry entitled "Afraid of My Own Strength." The poem takes a critical look at many of the flawed idols and tropes that exist in the images and role models of the entertainment industry from a minority's perspective.<br>•&nbsp; &nbsp; &nbsp; &nbsp; Tickets: In Advance: $10 per person or 2 tickets/$15<br>•&nbsp; &nbsp; &nbsp; &nbsp; $5 more at Door: $15 per person or 2 tickets/$20<br>Go to <a href="https://www.artsinbartlett.org/index.php?p=1_32_Tickets://" target="_blank">Ticket Page of Arts in Bartlett</a> to purchase with credit or debit card. With cash or check at Arts in Bartlett, 215 S. Main St. $5 more at the door.&nbsp;<br><div></div>
X-ALT-DESC;FMTTYPE=text/html:Reggie Legend is back at Arts in Bartlett for another night of rhythm &amp; poetry...and this time, he's joined by local professional cellist Dorothy Deen, who will be doing jazz improvisation in A Minor. Legend will be reading a piece from his first book of poetry entitled "Afraid of My Own Strength." The poem takes a critical look at many of the flawed idols and tropes that exist in the images and role models of the entertainment industry from a minority's perspective.<br>•&nbsp; &nbsp; &nbsp; &nbsp; Tickets: In Advance: $10 per person or 2 tickets/$15<br>•&nbsp; &nbsp; &nbsp; &nbsp; $5 more at Door: $15 per person or 2 tickets/$20<br>Go to <a href="https://www.artsinbartlett.org/index.php?p=1_32_Tickets://" target="_blank">Ticket Page of Arts in Bartlett</a> to purchase with credit or debit card. With cash or check at Arts in Bartlett, 215 S. Main St. $5 more at the door.&nbsp;<br><div></div>
LOCATION:Arts in Bartlett Center for the Arts\, 215 S. Main Street Bartlett\, Illinois 60103
CLASS:PUBLIC
END:VEVENT
END:VCALENDAR
