BEGIN:VCALENDAR
VERSION:2.0
PRODID:Village of Bartlett Calendar Creator
METHOD:PUBLISH
BEGIN:VEVENT
DTSTAMP:20151118T073342
DTSTART:20151117T180000
DTEND:20151117T190000
SUMMARY:"The Untold Story" Exhibit Reception
DESCRIPTION:<p>The November exhibit at Village Hall features the works of photojournalist Val Mazzenga. His photographs have won more than 200 awards including five Beck Awards - the Chicago Tribune’s highest accolade. He has been nominated for the Pulitzer Prize six times. <br><br>Mazzenga has done prize winning photo essays on Mother Teresa, President Nixon and Michael Jordan. He has photographed the Wonders of the World - Machu Pichu the Lost City of the Incas, the Taj Mahjal, Angkor Wat, the Great Wall of China, Carnival in Rio, and life along Bangkok’s Klong waterways. He covered the Russian Invasion of Afghanistan and Ground Zero. He is an adjunct professor at the University of Illinois, School of Journalism and a keynote speaker. </p><p>This exhibit runs through November 30 and is free &amp; open to the public.Exhibit Hours are Monday to Friday,  8:30 a.m. to <br>4:30 p.m. and Saturday, 9 a.m. to noon. For moreinformation, call 630-372-4151 or goto <a href="http://www.artsinbartlett.org" target="_blank">www.artsinbartlett.org</a>.</p>
X-ALT-DESC;FMTTYPE=text/html:<p>The November exhibit at Village Hall features the works of photojournalist Val Mazzenga. His photographs have won more than 200 awards including five Beck Awards - the Chicago Tribune’s highest accolade. He has been nominated for the Pulitzer Prize six times. <br><br>Mazzenga has done prize winning photo essays on Mother Teresa, President Nixon and Michael Jordan. He has photographed the Wonders of the World - Machu Pichu the Lost City of the Incas, the Taj Mahjal, Angkor Wat, the Great Wall of China, Carnival in Rio, and life along Bangkok’s Klong waterways. He covered the Russian Invasion of Afghanistan and Ground Zero. He is an adjunct professor at the University of Illinois, School of Journalism and a keynote speaker. </p><p>This exhibit runs through November 30 and is free &amp; open to the public.Exhibit Hours are Monday to Friday,  8:30 a.m. to <br>4:30 p.m. and Saturday, 9 a.m. to noon. For moreinformation, call 630-372-4151 or goto <a href="http://www.artsinbartlett.org" target="_blank">www.artsinbartlett.org</a>.</p>
LOCATION:Bartlett Village Hall\, 228 S. Main St.\, 2nd Floor Gallery Bartlett\, Illinois 60103
CLASS:PUBLIC
END:VEVENT
END:VCALENDAR
