BEGIN:VCALENDAR
VERSION:2.0
PRODID:Village of Bartlett Calendar Creator
METHOD:PUBLISH
BEGIN:VEVENT
DTSTAMP:20170524T132445
DTSTART:20170725T073000
DTEND:20170725T235900
SUMMARY:"How-To" Workshop for Bartlett Businesses
DESCRIPTION:During the Village's second Business How-To Workshop, Kencie Zmich, financial advisor for Edward Jones, presents "The Entrepreneurial Equation," designed to help business owners understand the tools available to them to help build, grow and preserve their business.&nbsp;To RSVP or ask questions, please contact Scott Skrycki, <a href="mailto:&#115;&#115;&#107;&#114;&#121;&#99;&#107;&#105;&#64;&#118;&#98;&#97;&#114;&#116;&#108;&#101;&#116;&#116;&#46;&#111;&#114;&#103;">sskrycki@vbartlett.org</a>, or630-837-0800.<br>
X-ALT-DESC;FMTTYPE=text/html:During the Village's second Business How-To Workshop, Kencie Zmich, financial advisor for Edward Jones, presents "The Entrepreneurial Equation," designed to help business owners understand the tools available to them to help build, grow and preserve their business.&nbsp;To RSVP or ask questions, please contact Scott Skrycki, <a href="mailto:&#115;&#115;&#107;&#114;&#121;&#99;&#107;&#105;&#64;&#118;&#98;&#97;&#114;&#116;&#108;&#101;&#116;&#116;&#46;&#111;&#114;&#103;">sskrycki@vbartlett.org</a>, or630-837-0800.<br>
LOCATION:Bartlett Village Hall\, 228 S. Main Street Bartlett\, Illinois 60103
CLASS:PUBLIC
END:VEVENT
END:VCALENDAR
