BEGIN:VCALENDAR
VERSION:2.0
PRODID:Village of Bartlett Calendar Creator
METHOD:PUBLISH
BEGIN:VEVENT
DTSTAMP:20170328T140837
DTSTART:20170525T073000
DTEND:20170525T235900
SUMMARY:"How-To" Workshop for Bartlett Businesses
DESCRIPTION:Are you looking to get your business off the ground or is it time to take it to the next level? The Village of Bartlett is ready to help. <br><br>The Village will be hosting a series of   workshops to help you navigate the “How To”  questions of starting and sustaining a Bartlett   business. This morning series will include speakers from the Village of Bartlett, successful Bartlett   business owners and more. <br><br>The first workshop in the series will take place on Thursday, 5/25 at Bartlett Village Hall starting at 7:30 a.m. Please look for additional  information on the Discover Bartlett Facebook page. To RSVP or ask questions, please contact Scott Skrycki, <a href="mailto:&#115;&#115;&#107;&#114;&#121;&#99;&#107;&#105;&#64;&#118;&#98;&#97;&#114;&#116;&#108;&#101;&#116;&#116;&#46;&#111;&#114;&#103;">sskrycki@vbartlett.org</a>, or630-837-0800.<br>
X-ALT-DESC;FMTTYPE=text/html:Are you looking to get your business off the ground or is it time to take it to the next level? The Village of Bartlett is ready to help. <br><br>The Village will be hosting a series of   workshops to help you navigate the “How To”  questions of starting and sustaining a Bartlett   business. This morning series will include speakers from the Village of Bartlett, successful Bartlett   business owners and more. <br><br>The first workshop in the series will take place on Thursday, 5/25 at Bartlett Village Hall starting at 7:30 a.m. Please look for additional  information on the Discover Bartlett Facebook page. To RSVP or ask questions, please contact Scott Skrycki, <a href="mailto:&#115;&#115;&#107;&#114;&#121;&#99;&#107;&#105;&#64;&#118;&#98;&#97;&#114;&#116;&#108;&#101;&#116;&#116;&#46;&#111;&#114;&#103;">sskrycki@vbartlett.org</a>, or630-837-0800.<br>
LOCATION:Bartlett Village Hall\, 228 S. Main Street Bartlett\, Illinois 60103
CLASS:PUBLIC
END:VEVENT
END:VCALENDAR
