BEGIN:VCALENDAR
VERSION:2.0
PRODID:Village of Bartlett Calendar Creator
METHOD:PUBLISH
BEGIN:VEVENT
DTSTAMP:20150109T135348
DTSTART:20150120T180000
DTEND:20150120T235900
SUMMARY:Artist Reception at Village Hall Gallery
DESCRIPTION:<p>Arts in Bartlett presents a second exhibit by students, age 8 and older, of Color My World Children’s Art Studio, <br>at the Village Hall 2nd Floor Gallery. The exhibit runs from January 2 through January 30, 2015 and is free and open to the public. </p><p>You are also invited to celebrate the young artists at a reception on Tuesday,&nbsp;1/20 beginning at 6 p.m. Exhibit Hours are Monday through Friday,&nbsp; 8:30 a.m. to 4:30 p.m. and Saturday, 9 a.m. to noon. For more information, call 630-372-4151 or go to <a href="http://www.artsinbartlett.org">www.artsinbartlett.org</a>.</p>
X-ALT-DESC;FMTTYPE=text/html:<p>Arts in Bartlett presents a second exhibit by students, age 8 and older, of Color My World Children’s Art Studio, <br>at the Village Hall 2nd Floor Gallery. The exhibit runs from January 2 through January 30, 2015 and is free and open to the public. </p><p>You are also invited to celebrate the young artists at a reception on Tuesday,&nbsp;1/20 beginning at 6 p.m. Exhibit Hours are Monday through Friday,&nbsp; 8:30 a.m. to 4:30 p.m. and Saturday, 9 a.m. to noon. For more information, call 630-372-4151 or go to <a href="http://www.artsinbartlett.org">www.artsinbartlett.org</a>.</p>
LOCATION:Bartlett Village Hall 2nd floor gallery\, 228 S. Main Street Bartlett\, Illinois 60103
CLASS:PUBLIC
END:VEVENT
END:VCALENDAR
