BEGIN:VCALENDAR
VERSION:2.0
PRODID:Village of Bartlett Calendar Creator
METHOD:PUBLISH
BEGIN:VEVENT
DTSTAMP:20260424T071816
DTSTART:20260507T190000
DTEND:20260507T235900
SUMMARY:Planning & Zoning Commission Meeting - CANCELLED
DESCRIPTION:<p>The Bartlett <b>Planning &amp; Zoning Commission </b>meeting scheduled for May 7, 2026 has been <b>CANCELLED</b> due to the lack of agenda items.&nbsp; </p><p>The next scheduled meeting is June 4, 2026.&nbsp;</p>
X-ALT-DESC;FMTTYPE=text/html:<p>The Bartlett <b>Planning &amp; Zoning Commission </b>meeting scheduled for May 7, 2026 has been <b>CANCELLED</b> due to the lack of agenda items.&nbsp; </p><p>The next scheduled meeting is June 4, 2026.&nbsp;</p>
LOCATION:Bartlett Village Hall\, 228 S. Main Street Bartlett\, Illinois 60103
CLASS:PUBLIC
END:VEVENT
END:VCALENDAR
