BEGIN:VCALENDAR
VERSION:2.0
PRODID:Village of Bartlett Calendar Creator
METHOD:PUBLISH
BEGIN:VEVENT
DTSTAMP:20260421T151700
DTSTART:20260423T190000
DTEND:20260425T190000
SUMMARY:Hadestown Teen Edition
DESCRIPTION:<p>Bartlett High School presents the musical Hadestown Teen Edition on 4/23, 4/24, 4/25 at 7:00 and 4/25 at 12:00 p.m. The cost is $10 per person. </p><p>Go to this link to purchase tickets or purchase them at the door:&nbsp;<a href="https://u46.booktix.com/dept/BHS/e/Hades" target="_blank" rel="noopener">https://u46.booktix.com/dept/BHS/e/Hades</a></p>
X-ALT-DESC;FMTTYPE=text/html:<p>Bartlett High School presents the musical Hadestown Teen Edition on 4/23, 4/24, 4/25 at 7:00 and 4/25 at 12:00 p.m. The cost is $10 per person. </p><p>Go to this link to purchase tickets or purchase them at the door:&nbsp;<a href="https://u46.booktix.com/dept/BHS/e/Hades" target="_blank" rel="noopener">https://u46.booktix.com/dept/BHS/e/Hades</a></p>
LOCATION:Bartlett High School\, 701 W. Schick Road Bartlett\, Illinois 60103
CLASS:PUBLIC
END:VEVENT
END:VCALENDAR
