BEGIN:VCALENDAR
VERSION:2.0
PRODID:Village of Bartlett Calendar Creator
METHOD:PUBLISH
BEGIN:VEVENT
DTSTAMP:20260421T152027
DTSTART:20260725T140000
DTEND:20260725T235900
SUMMARY:"Head to the Hills" Family Golf Festival
DESCRIPTION:<p>The Village President and Board of Trustees invite you to our "Head to the Hills" Family Golf Festival on Saturday, July 25 at 2 p.m.</p><p>This free event will feature a variety of fun family golf games and play, complimentary hot dogs and snacks for the first 100 guests to sign up, and gift bags for the first 100 kids and adults! </p><p><strong>Advance registration required</strong>. Call (630)837-2741 or email <a href="mailto:&#101;&#118;&#97;&#110;&#64;&#98;&#97;&#114;&#116;&#108;&#101;&#116;&#116;&#104;&#105;&#108;&#108;&#115;&#46;&#99;&#111;&#109;">evan@bartletthills.com</a> to save your spot by July 22.</p>
X-ALT-DESC;FMTTYPE=text/html:<p>The Village President and Board of Trustees invite you to our "Head to the Hills" Family Golf Festival on Saturday, July 25 at 2 p.m.</p><p>This free event will feature a variety of fun family golf games and play, complimentary hot dogs and snacks for the first 100 guests to sign up, and gift bags for the first 100 kids and adults! </p><p><strong>Advance registration required</strong>. Call (630)837-2741 or email <a href="mailto:&#101;&#118;&#97;&#110;&#64;&#98;&#97;&#114;&#116;&#108;&#101;&#116;&#116;&#104;&#105;&#108;&#108;&#115;&#46;&#99;&#111;&#109;">evan@bartletthills.com</a> to save your spot by July 22.</p>
LOCATION:Bartlett Hills Golf Club\, 800 W. Oneida Ave Bartlett\, Illinois 60103
CLASS:PUBLIC
END:VEVENT
END:VCALENDAR
