BEGIN:VCALENDAR
VERSION:2.0
PRODID:Village of Bartlett Calendar Creator
METHOD:PUBLISH
BEGIN:VEVENT
DTSTAMP:20260324T142035
DTSTART:20260404T133000
DTEND:20260404T235900
SUMMARY:Bartlett Lions Easter Egg Hunt
DESCRIPTION:The Bartlett Lions Club will be hosting an Easter Egg Hunt on Saturday, April 4 at the Soccer Fields by the Bartlett Community Center. The hunt starts at 1:30 p.m.! Come early to get your spot. Free for children age 12 and under.&nbsp;
X-ALT-DESC;FMTTYPE=text/html:The Bartlett Lions Club will be hosting an Easter Egg Hunt on Saturday, April 4 at the Soccer Fields by the Bartlett Community Center. The hunt starts at 1:30 p.m.! Come early to get your spot. Free for children age 12 and under.&nbsp;
LOCATION:Bartlett Community Center\, 700 S. Bartlett Road Bartlett\, Illinois 60103
CLASS:PUBLIC
END:VEVENT
END:VCALENDAR
