BEGIN:VCALENDAR
VERSION:2.0
PRODID:Village of Bartlett Calendar Creator
METHOD:PUBLISH
BEGIN:VEVENT
DTSTAMP:20260323T074352
DTSTART:20260509T090000
DTEND:20260509T150000
SUMMARY:Tri-Village Garden Club Annual Plant Sale & Garden Boutique
DESCRIPTION:<p>Native plants, hanging baskets, vegetables, sun and shade-loving annuals &amp; perennials</p><p>Experienced gardeners on hand to answer your questions</p><p>Rain or shine</p>
X-ALT-DESC;FMTTYPE=text/html:<p>Native plants, hanging baskets, vegetables, sun and shade-loving annuals &amp; perennials</p><p>Experienced gardeners on hand to answer your questions</p><p>Rain or shine</p>
LOCATION:Bartlett Park\, Oak Avenue & North Avenue Bartlett\, Illinois 60103
CLASS:PUBLIC
END:VEVENT
END:VCALENDAR
