BEGIN:VCALENDAR
VERSION:2.0
PRODID:Village of Bartlett Calendar Creator
METHOD:PUBLISH
BEGIN:VEVENT
DTSTAMP:20260320T141952
DTSTART:20260516T190000
DTEND:20260516T235900
SUMMARY:Glorious Taiwan
DESCRIPTION:To celebrate 2026 Taiwanese American Heritage Week and Bartlett’s Sister City, Miaoli City, Taiwan, you are invited to experience “Glorious Taiwan,” by the Formosa Melody Music Center, a Taiwanese performing arts group on Saturday, May 16 at 7 p.m. at Bartlett High School, 701 W. Schick Road.<p>&nbsp;</p>Don’t miss this captivating artistic feast blending dance, singing, music, and drama. This performance is complimentary but registration is required to ensure a seat for all attendees.<p>&nbsp;</p><p> Visit <a href="www.artsinbartlett.org/sistercity" target="_blank" rel="noopener">www.artsinbartlett.org/sistercity</a> to see more information and to register for tickets. </p><p>&nbsp;</p><br>
X-ALT-DESC;FMTTYPE=text/html:To celebrate 2026 Taiwanese American Heritage Week and Bartlett’s Sister City, Miaoli City, Taiwan, you are invited to experience “Glorious Taiwan,” by the Formosa Melody Music Center, a Taiwanese performing arts group on Saturday, May 16 at 7 p.m. at Bartlett High School, 701 W. Schick Road.<p>&nbsp;</p>Don’t miss this captivating artistic feast blending dance, singing, music, and drama. This performance is complimentary but registration is required to ensure a seat for all attendees.<p>&nbsp;</p><p> Visit <a href="www.artsinbartlett.org/sistercity" target="_blank" rel="noopener">www.artsinbartlett.org/sistercity</a> to see more information and to register for tickets. </p><p>&nbsp;</p><br>
LOCATION:Bartlett High School\, 701 W. Schick Road Barltett\, Illinois 60103
CLASS:PUBLIC
END:VEVENT
END:VCALENDAR
