BEGIN:VCALENDAR
VERSION:2.0
PRODID:Village of Bartlett Calendar Creator
METHOD:PUBLISH
BEGIN:VEVENT
DTSTAMP:20260320T141401
DTSTART:20260519T100000
DTEND:20260519T130000
SUMMARY:A Walking Tour of Bartlett's History Through its Trees
DESCRIPTION:<p>In celebration of Arbor Day, join the museum staff and village forester on <strong>Tuesday, May 19 at 10:00 am OR 1:00 pm</strong> for an approximate 1 ½ hour walking tour beginning at the Bartlett Depot Museum. Learn all about tree diversity, diseases, queens, architecture, and more as we explore the heart of historic Bartlett from nature’s point of view.</p><p> To register for this free event and/or more information, please email Pam at <a href="mailto:&#112;&#114;&#111;&#104;&#108;&#101;&#100;&#101;&#114;&#64;&#98;&#97;&#114;&#116;&#108;&#101;&#116;&#116;&#105;&#108;&#46;&#103;&#111;&#118;">prohleder@bartlettil.gov</a>, with your name, number of people, your phone number and time choice. Appropriate for ages 12 and older. </p><br>
X-ALT-DESC;FMTTYPE=text/html:<p>In celebration of Arbor Day, join the museum staff and village forester on <strong>Tuesday, May 19 at 10:00 am OR 1:00 pm</strong> for an approximate 1 ½ hour walking tour beginning at the Bartlett Depot Museum. Learn all about tree diversity, diseases, queens, architecture, and more as we explore the heart of historic Bartlett from nature’s point of view.</p><p> To register for this free event and/or more information, please email Pam at <a href="mailto:&#112;&#114;&#111;&#104;&#108;&#101;&#100;&#101;&#114;&#64;&#98;&#97;&#114;&#116;&#108;&#101;&#116;&#116;&#105;&#108;&#46;&#103;&#111;&#118;">prohleder@bartlettil.gov</a>, with your name, number of people, your phone number and time choice. Appropriate for ages 12 and older. </p><br>
LOCATION:Bartlett Depot Museum\, 100 W. Railroad Ave Bartlett\, Illinois 60103
CLASS:PUBLIC
END:VEVENT
END:VCALENDAR
