BEGIN:VCALENDAR
VERSION:2.0
PRODID:Village of Bartlett Calendar Creator
METHOD:PUBLISH
BEGIN:VEVENT
DTSTAMP:20260320T141142
DTSTART:20260502T090000
DTEND:20260502T160000
SUMMARY:Spring Artisan Marketplace & Craft Show
DESCRIPTION:<p>The 6th annual Arts in Bartlett Spring Artisan Marketplace &amp; Craft Show is on Saturday, 5/2 (rain date Sunday, 5/3) from 9 a.m. to 4 p.m. The first of-the-season indoor/outdoor market brings together 70+ of the area’s finest artists, cottage food purveyors, crafters, and specialty vendors. </p><p>Free to attend at Bartlett Town Center, 215 S. Main Street. </p><p>Details with list of vendors, go to <a href="www.artsinbartlett.org/springmktplace" target="_blank" rel="noopener">www.artsinbartlett.org/springmktplace</a>.</p><br>
X-ALT-DESC;FMTTYPE=text/html:<p>The 6th annual Arts in Bartlett Spring Artisan Marketplace &amp; Craft Show is on Saturday, 5/2 (rain date Sunday, 5/3) from 9 a.m. to 4 p.m. The first of-the-season indoor/outdoor market brings together 70+ of the area’s finest artists, cottage food purveyors, crafters, and specialty vendors. </p><p>Free to attend at Bartlett Town Center, 215 S. Main Street. </p><p>Details with list of vendors, go to <a href="www.artsinbartlett.org/springmktplace" target="_blank" rel="noopener">www.artsinbartlett.org/springmktplace</a>.</p><br>
LOCATION:Arts in Bartlett Center for the Arts\, 215 S. Main Street Bartlett\, Illinois 60103
CLASS:PUBLIC
END:VEVENT
END:VCALENDAR
