BEGIN:VCALENDAR
VERSION:2.0
PRODID:Village of Bartlett Calendar Creator
METHOD:PUBLISH
BEGIN:VEVENT
DTSTAMP:20260417T133820
DTSTART:20260423T190000
DTEND:20260423T235900
SUMMARY:Planning & Zoning Commission Special Meeting
DESCRIPTION:<p><a href="https://bartlett.prod-as.govaccess.org/home/showpublisheddocument/16139" target="_blank" rel="noopener">Meeting Packet</a></p><p><a href="https://events.gcc.teams.microsoft.com/event/fd32743f-46d0-4c01-8525-be0024e497af@21507938-f8db-4d6e-9c24-a5dbcbaf121e" target="_blank">Planning &amp; Zoning Commission Special Meeting 04-23-2026 at 7 pm | Join meeting in Teams | Microsoft Teams</a></p>
X-ALT-DESC;FMTTYPE=text/html:<p><a href="https://bartlett.prod-as.govaccess.org/home/showpublisheddocument/16139" target="_blank" rel="noopener">Meeting Packet</a></p><p><a href="https://events.gcc.teams.microsoft.com/event/fd32743f-46d0-4c01-8525-be0024e497af@21507938-f8db-4d6e-9c24-a5dbcbaf121e" target="_blank">Planning &amp; Zoning Commission Special Meeting 04-23-2026 at 7 pm | Join meeting in Teams | Microsoft Teams</a></p>
LOCATION:Bartlett Village Hall\, 228 S. Main Street Bartlett\, Illinois 60103
CLASS:PUBLIC
END:VEVENT
END:VCALENDAR
