BEGIN:VCALENDAR
VERSION:2.0
PRODID:Village of Bartlett Calendar Creator
METHOD:PUBLISH
BEGIN:VEVENT
DTSTAMP:20260415T134021
DTSTART:20260421T190000
DTEND:20260421T235900
SUMMARY:Committee of the Whole Meeting
DESCRIPTION:<p><a href="https://events.gcc.teams.microsoft.com/event/23527312-604b-4667-ab0c-78d178e298e3@21507938-f8db-4d6e-9c24-a5dbcbaf121e" target="_blank" rel="noopener">Attend via Microsoft Teams</a></p><p><a href="https://bartlett.prod-as.govaccess.org/home/showpublisheddocument/16133/639118570557470000" target="_blank" rel="noopener">Meeting Packet</a></p>
X-ALT-DESC;FMTTYPE=text/html:<p><a href="https://events.gcc.teams.microsoft.com/event/23527312-604b-4667-ab0c-78d178e298e3@21507938-f8db-4d6e-9c24-a5dbcbaf121e" target="_blank" rel="noopener">Attend via Microsoft Teams</a></p><p><a href="https://bartlett.prod-as.govaccess.org/home/showpublisheddocument/16133/639118570557470000" target="_blank" rel="noopener">Meeting Packet</a></p>
LOCATION:Bartlett Village Hall\, 228 S. Main Street Bartlett\, Illinois 60103
CLASS:PUBLIC
END:VEVENT
END:VCALENDAR
