BEGIN:VCALENDAR
VERSION:2.0
PRODID:Village of Bartlett Calendar Creator
METHOD:PUBLISH
BEGIN:VEVENT
DTSTAMP:20260309T070430
DTSTART:20260328T110000
DTEND:20260328T235900
SUMMARY:Bunny Lunch
DESCRIPTION:<p>Join the Bartlett Woman's Club on their 48th Annual Bunny Lunch. Bunny will be available for pictures, so bring your camera!</p><p>📅Saturday, March 28</p><p>🕛 Doors open at 11:00 a.m., pizza lunch served at noon.</p><p>📍Bartlett Park District Community Center - Oak Room, 700 S. Bartlett Rd.</p><p>💰Tickets are $14.00 per person</p><p>🔗Register at&nbsp;<a href="https://bit.ly/BWCbunny26" rel="noopener noreferrer" target="_blank">https://bit.ly/BWCbunny26</a></p><p>Reservations and payment required in advance for every child (all ages) and every adult. Limited seating. No refunds.</p><p>For additional information or questions: email Judy at&nbsp;<a href="mailto:judywags2@yahoo.com" rel="noopener noreferrer" target="_blank">judywags2@yahoo.com</a></p>
X-ALT-DESC;FMTTYPE=text/html:<p>Join the Bartlett Woman's Club on their 48th Annual Bunny Lunch. Bunny will be available for pictures, so bring your camera!</p><p>📅Saturday, March 28</p><p>🕛 Doors open at 11:00 a.m., pizza lunch served at noon.</p><p>📍Bartlett Park District Community Center - Oak Room, 700 S. Bartlett Rd.</p><p>💰Tickets are $14.00 per person</p><p>🔗Register at&nbsp;<a href="https://bit.ly/BWCbunny26" rel="noopener noreferrer" target="_blank">https://bit.ly/BWCbunny26</a></p><p>Reservations and payment required in advance for every child (all ages) and every adult. Limited seating. No refunds.</p><p>For additional information or questions: email Judy at&nbsp;<a href="mailto:judywags2@yahoo.com" rel="noopener noreferrer" target="_blank">judywags2@yahoo.com</a></p>
LOCATION:Bartlett Community Center\, 700 S. Bartlett Road Bartlett\, Illinois 60103
CLASS:PUBLIC
END:VEVENT
END:VCALENDAR
