BEGIN:VCALENDAR
VERSION:2.0
PRODID:Village of Bartlett Calendar Creator
METHOD:PUBLISH
BEGIN:VEVENT
DTSTAMP:20260309T070427
DTSTART:20260405T100000
DTEND:20260405T140000
SUMMARY:Easter Brunch at Bartlett Hills
DESCRIPTION:<h3>Hop Over for Easter Brunch at Bartlett Hills! 🐰</h3><p>Looking for the perfect way to celebrate Easter without the kitchen cleanup? Join us at the Bartlett Hills Golf Club for a spectacular holiday feast! From savory carving stations to a decadent sweet table, we’re serving up something for everyone in the family.</p><p>When: Sunday, April 5th | 10 a.m. – 2 p.m.</p><p>Where: Bartlett Hills Golf Club, 800 W. Oneida Ave.</p><p>Pricing: Adults: $54.95</p><p>Kids (Ages 3-12): $24.95</p><p>Kids Under 3: Free!</p><p><span style="color: rgb(29, 36, 36); font-size: 22.4px;">On the Menu</span></p><p>Enjoy a wide array of chef-prepared favorites, including:</p><ul>    <li>Breakfast &amp; Dinner Classics: Made-to-order omelet station and traditional hot entrees.</li>    <li>The Carving Station: Premium Prime Rib and Honey-Glazed Ham.</li>    <li>Fresh &amp; Chilled: Seafood and sushi display, plus a vibrant fresh fruit spread.</li>    <li>Sweet Treats: A full sweet table featuring assorted pastries and desserts.</li>    <li>Cheers! Mimosas, coffee, and soft drinks are included with your meal.</li></ul><p><span style="color: rgb(29, 36, 36); font-size: 22.4px;">Reserve Your Table Today</span></p><blockquote><strong>Seating is limited and fills up fast!</strong> </blockquote><p>To reserve your spot: 📞 Call: (630) 213-3103 📧 Email: <a href="mailto:Evan@bartletthills.com" rel="noopener noreferrer" target="_blank" data-link-type="email">Evan@bartletthills.com</a></p>
X-ALT-DESC;FMTTYPE=text/html:<h3>Hop Over for Easter Brunch at Bartlett Hills! 🐰</h3><p>Looking for the perfect way to celebrate Easter without the kitchen cleanup? Join us at the Bartlett Hills Golf Club for a spectacular holiday feast! From savory carving stations to a decadent sweet table, we’re serving up something for everyone in the family.</p><p>When: Sunday, April 5th | 10 a.m. – 2 p.m.</p><p>Where: Bartlett Hills Golf Club, 800 W. Oneida Ave.</p><p>Pricing: Adults: $54.95</p><p>Kids (Ages 3-12): $24.95</p><p>Kids Under 3: Free!</p><p><span style="color: rgb(29, 36, 36); font-size: 22.4px;">On the Menu</span></p><p>Enjoy a wide array of chef-prepared favorites, including:</p><ul>    <li>Breakfast &amp; Dinner Classics: Made-to-order omelet station and traditional hot entrees.</li>    <li>The Carving Station: Premium Prime Rib and Honey-Glazed Ham.</li>    <li>Fresh &amp; Chilled: Seafood and sushi display, plus a vibrant fresh fruit spread.</li>    <li>Sweet Treats: A full sweet table featuring assorted pastries and desserts.</li>    <li>Cheers! Mimosas, coffee, and soft drinks are included with your meal.</li></ul><p><span style="color: rgb(29, 36, 36); font-size: 22.4px;">Reserve Your Table Today</span></p><blockquote><strong>Seating is limited and fills up fast!</strong> </blockquote><p>To reserve your spot: 📞 Call: (630) 213-3103 📧 Email: <a href="mailto:Evan@bartletthills.com" rel="noopener noreferrer" target="_blank" data-link-type="email">Evan@bartletthills.com</a></p>
LOCATION:Bartlett Hills Golf Club\, 800 W. Oneida Ave Bartlett\, Illinois 60103
CLASS:PUBLIC
END:VEVENT
END:VCALENDAR
