BEGIN:VCALENDAR
VERSION:2.0
PRODID:Village of Bartlett Calendar Creator
METHOD:PUBLISH
BEGIN:VEVENT
DTSTAMP:20260304T135205
DTSTART:20260303T180000
DTEND:20260303T235900
SUMMARY:Committee of the Whole Meeting
DESCRIPTION:<p><a href="https://bartlett.prod-as.govaccess.org/home/showpublisheddocument/16019/639076255186770000" target="_blank" rel="noopener">Committee of the Whole Meeting Packet</a></p><a href="https://events.gcc.teams.microsoft.com/event/4a995e55-1a84-41bc-ac53-68a937b206b7@21507938-f8db-4d6e-9c24-a5dbcbaf121e" target="_blank" rel="noopener">Attend via Microsoft Teams</a><p>&nbsp;</p><p><a href="https://youtu.be/pPKNo1Ts384" target="_blank" rel="noopener">YouTube Link</a></p>
X-ALT-DESC;FMTTYPE=text/html:<p><a href="https://bartlett.prod-as.govaccess.org/home/showpublisheddocument/16019/639076255186770000" target="_blank" rel="noopener">Committee of the Whole Meeting Packet</a></p><a href="https://events.gcc.teams.microsoft.com/event/4a995e55-1a84-41bc-ac53-68a937b206b7@21507938-f8db-4d6e-9c24-a5dbcbaf121e" target="_blank" rel="noopener">Attend via Microsoft Teams</a><p>&nbsp;</p><p><a href="https://youtu.be/pPKNo1Ts384" target="_blank" rel="noopener">YouTube Link</a></p>
LOCATION:Bartlett Village Hall\, 228 S. Main Street Bartlett\, Illinois 60103
CLASS:PUBLIC
END:VEVENT
END:VCALENDAR
