BEGIN:VCALENDAR
VERSION:2.0
PRODID:Village of Bartlett Calendar Creator
METHOD:PUBLISH
BEGIN:VEVENT
DTSTAMP:20260123T130325
DTSTART:20260311T190000
DTEND:20260311T235900
SUMMARY:Driving Forces - Women & Automobiles
DESCRIPTION:<p> March is Women’s History Month. To celebrate this and the U.S. Numbered Highway System centennial, the Bartlett History Museum is hosting “Driving Forces: 100+ Years of Women Influencing, Buying, Designing &amp; Driving Automobiles.”&nbsp;</p><p>The program by Barbara Barrett highlights women’s pivotal, often overlooked roles in the auto world. Topics include early pioneers like Bertha Benz, inventors of safety features and modern consumers who drive majority purchasing decisions that influence design and practicality.&nbsp;</p><p> The presentation will be on Wednesday, 3/11 at Bartlett Village Hall, 228 S. Main Street. Doors open at 6:30 p.m. for refreshments, with a 6:45 p.m. pre-program by the museum. Barrett’s program begins at 7 p.m. Registration required. Email your name, phone number and attendees to <a href="mailto:&#114;&#107;&#111;&#101;&#104;&#108;&#101;&#114;&#64;&#98;&#97;&#114;&#116;&#108;&#101;&#116;&#116;&#105;&#108;&#46;&#103;&#111;&#118;&#46;">rkoehler@bartlettil.gov.</a>&nbsp;</p><div></div>
X-ALT-DESC;FMTTYPE=text/html:<p> March is Women’s History Month. To celebrate this and the U.S. Numbered Highway System centennial, the Bartlett History Museum is hosting “Driving Forces: 100+ Years of Women Influencing, Buying, Designing &amp; Driving Automobiles.”&nbsp;</p><p>The program by Barbara Barrett highlights women’s pivotal, often overlooked roles in the auto world. Topics include early pioneers like Bertha Benz, inventors of safety features and modern consumers who drive majority purchasing decisions that influence design and practicality.&nbsp;</p><p> The presentation will be on Wednesday, 3/11 at Bartlett Village Hall, 228 S. Main Street. Doors open at 6:30 p.m. for refreshments, with a 6:45 p.m. pre-program by the museum. Barrett’s program begins at 7 p.m. Registration required. Email your name, phone number and attendees to <a href="mailto:&#114;&#107;&#111;&#101;&#104;&#108;&#101;&#114;&#64;&#98;&#97;&#114;&#116;&#108;&#101;&#116;&#116;&#105;&#108;&#46;&#103;&#111;&#118;&#46;">rkoehler@bartlettil.gov.</a>&nbsp;</p><div></div>
LOCATION:Bartlett Village Hall\, 228 S. Main Street Bartlett\, Illinois 60103
CLASS:PUBLIC
END:VEVENT
END:VCALENDAR
