BEGIN:VCALENDAR
VERSION:2.0
PRODID:Village of Bartlett Calendar Creator
METHOD:PUBLISH
BEGIN:VEVENT
DTSTAMP:20240325T142853
DTSTART:20240504T090000
DTEND:20240504T120000
SUMMARY:1st Saturday Children's Craft - Cicada Craft
DESCRIPTION:<p>Families are invited to join in the fun as the Bartlett Depot Museum hosts its First Saturday Free Children’s Craft.</p><p>On May 4, children will learn about cicadas and craft one too!</p><p>No registration is needed, but supplies are limited. The museum, 100 W. Railroad Avenue, will be open that day from 9 a.m. to noon. Drop in anytime.&nbsp;As always, admission is free and there is free parking across the street in the public lot.</p>
X-ALT-DESC;FMTTYPE=text/html:<p>Families are invited to join in the fun as the Bartlett Depot Museum hosts its First Saturday Free Children’s Craft.</p><p>On May 4, children will learn about cicadas and craft one too!</p><p>No registration is needed, but supplies are limited. The museum, 100 W. Railroad Avenue, will be open that day from 9 a.m. to noon. Drop in anytime.&nbsp;As always, admission is free and there is free parking across the street in the public lot.</p>
LOCATION:Bartlett Depot Museum\, 100 W. Railroad Ave Bartlett\, Illinois 60103
CLASS:PUBLIC
END:VEVENT
END:VCALENDAR
