BEGIN:VCALENDAR
VERSION:2.0
PRODID:Village of Bartlett Calendar Creator
METHOD:PUBLISH
BEGIN:VEVENT
DTSTAMP:20230110T075241
DTSTART:20230109T190000
DTEND:20230109T235900
SUMMARY:Economic Development Commission Meeting
DESCRIPTION:<p><strong><a href="https://bartlett.prod-as.govaccess.org/home/showpublisheddocument/12921/638085129322100000" target="_blank">Economic Development Commission Meeting Packet</a></strong></p><p><strong><a href="https://youtu.be/m5fnQDw7xeU" target="_blank">Economic Development Commission Meeting Audio Recording</a></strong></p>
X-ALT-DESC;FMTTYPE=text/html:<p><strong><a href="https://bartlett.prod-as.govaccess.org/home/showpublisheddocument/12921/638085129322100000" target="_blank">Economic Development Commission Meeting Packet</a></strong></p><p><strong><a href="https://youtu.be/m5fnQDw7xeU" target="_blank">Economic Development Commission Meeting Audio Recording</a></strong></p>
LOCATION:Bartlett Village Hall\, 228 S. Main Street Bartlett\, Illinois 60103
CLASS:PUBLIC
END:VEVENT
END:VCALENDAR
