BEGIN:VCALENDAR
VERSION:2.0
PRODID:Village of Bartlett Calendar Creator
METHOD:PUBLISH
BEGIN:VEVENT
DTSTAMP:20230724T134002
DTSTART:20230104T150000
DTEND:20230104T235900
SUMMARY:Bike & Run Committee Meeting
DESCRIPTION:<p><strong><a href="https://bartlett.prod-as.govaccess.org/home/showpublisheddocument/12897/638073140503270000" target="_blank">Bike &amp; Run Committee Meeting Packet</a></strong></p><p><strong><a href="https://youtu.be/t55B76O69po" target="_blank">Bike &amp; Run Committee Meeting Audio Recording</a></strong></p>
X-ALT-DESC;FMTTYPE=text/html:<p><strong><a href="https://bartlett.prod-as.govaccess.org/home/showpublisheddocument/12897/638073140503270000" target="_blank">Bike &amp; Run Committee Meeting Packet</a></strong></p><p><strong><a href="https://youtu.be/t55B76O69po" target="_blank">Bike &amp; Run Committee Meeting Audio Recording</a></strong></p>
LOCATION:Bartlett Village Hall\, 228 S. Main Street Bartlett\, Illinois 60103
CLASS:PUBLIC
END:VEVENT
END:VCALENDAR
