BEGIN:VCALENDAR
VERSION:2.0
PRODID:Village of Bartlett Calendar Creator
METHOD:PUBLISH
BEGIN:VEVENT
DTSTAMP:20220518T082616
DTSTART:20220528T100000
DTEND:20220528T230000
SUMMARY:DuPage Community Arts Festival
DESCRIPTION:
X-ALT-DESC;FMTTYPE=text/html:
LOCATION:DuPage County Fairgrounds\, 2015 Manchester Road Wheaton\, Illinois 60187
CLASS:PUBLIC
END:VEVENT
END:VCALENDAR
