BEGIN:VCALENDAR
VERSION:2.0
PRODID:Village of Bartlett Calendar Creator
METHOD:PUBLISH
BEGIN:VEVENT
DTSTAMP:20220322T091310
DTSTART:20220514T090000
DTEND:20220514T120000
SUMMARY:Family Fishing Derby
DESCRIPTION:Bartlett Police Department will host its annual Family Fishing Derby from 9 a.m. to noon on Saturday, 5/14 (this includes time for participants to register and fish and for giveaways). The event will be held at Beaver Pond off Stearns Road. The rain date, if necessary, will be on Saturday, 6/4.&nbsp;
X-ALT-DESC;FMTTYPE=text/html:Bartlett Police Department will host its annual Family Fishing Derby from 9 a.m. to noon on Saturday, 5/14 (this includes time for participants to register and fish and for giveaways). The event will be held at Beaver Pond off Stearns Road. The rain date, if necessary, will be on Saturday, 6/4.&nbsp;
LOCATION:
CLASS:PUBLIC
END:VEVENT
END:VCALENDAR
