BEGIN:VCALENDAR
VERSION:2.0
PRODID:Village of Bartlett Calendar Creator
METHOD:PUBLISH
BEGIN:VEVENT
DTSTAMP:20211210T083639
DTSTART:20211014T190000
DTEND:20211014T235900
SUMMARY:Plan Commission Meeting
DESCRIPTION:<p><strong><a href="https://bartlett.prod-as.govaccess.org/home/showpublisheddocument/12115/637695334050830000" target="_blank">Plan Commission Meeting Packet</a></strong></p><p><strong><a href="https://youtu.be/S0SQ2Bc_NMI" target="_blank">Plan Commission Meeting Audio Recording</a></strong></p>
X-ALT-DESC;FMTTYPE=text/html:<p><strong><a href="https://bartlett.prod-as.govaccess.org/home/showpublisheddocument/12115/637695334050830000" target="_blank">Plan Commission Meeting Packet</a></strong></p><p><strong><a href="https://youtu.be/S0SQ2Bc_NMI" target="_blank">Plan Commission Meeting Audio Recording</a></strong></p>
LOCATION:Bartlett Village Hall\, 228 S. Main Street Bartlett\, Illinois 60103
CLASS:PUBLIC
END:VEVENT
END:VCALENDAR
