BEGIN:VCALENDAR
VERSION:2.0
PRODID:Village of Bartlett Calendar Creator
METHOD:PUBLISH
BEGIN:VEVENT
DTSTAMP:20210929T064511
DTSTART:20211007T190000
DTEND:20211007T235900
SUMMARY:Zoning Board of Appeals Meeting - cancelled
DESCRIPTION:The Village of Bartlett Zoning Board of Appeals meeting scheduled for TThursday, 10/7/2021 has&nbsp;been CANCELLED due to the petitioner withdrawing the variation request. The next scheduled meeting will be Thursday, 11/4/2021 at 7 p.m.
X-ALT-DESC;FMTTYPE=text/html:The Village of Bartlett Zoning Board of Appeals meeting scheduled for TThursday, 10/7/2021 has&nbsp;been CANCELLED due to the petitioner withdrawing the variation request. The next scheduled meeting will be Thursday, 11/4/2021 at 7 p.m.
LOCATION:Bartlett Village Hall\, 228 S. Main Street Bartlett\, Illinois 60103
CLASS:PUBLIC
END:VEVENT
END:VCALENDAR
