BEGIN:VCALENDAR
VERSION:2.0
PRODID:Village of Bartlett Calendar Creator
METHOD:PUBLISH
BEGIN:VEVENT
DTSTAMP:20220107T084647
DTSTART:20210923T150000
DTEND:20210923T235900
SUMMARY:Bike & Run Plan Advisory Committee Meeting
DESCRIPTION:<p><strong><a href="https://bartlett.prod-as.govaccess.org/home/showpublisheddocument/12081/637674842834100000" target="_blank">Bike &amp; Run Committee Meeting Packet</a></strong></p><p><strong><a href="https://youtu.be/VqfCKKjvg34" target="_blank">Bike &amp; Run Committee Meeting Audio Recording</a></strong></p>
X-ALT-DESC;FMTTYPE=text/html:<p><strong><a href="https://bartlett.prod-as.govaccess.org/home/showpublisheddocument/12081/637674842834100000" target="_blank">Bike &amp; Run Committee Meeting Packet</a></strong></p><p><strong><a href="https://youtu.be/VqfCKKjvg34" target="_blank">Bike &amp; Run Committee Meeting Audio Recording</a></strong></p>
LOCATION:Bartlett Village Hall\, 228 S. Main Street Bartlett\, Illinois 60103
CLASS:PUBLIC
END:VEVENT
END:VCALENDAR
