BEGIN:VCALENDAR
VERSION:2.0
PRODID:Village of Bartlett Calendar Creator
METHOD:PUBLISH
BEGIN:VEVENT
DTSTAMP:20210914T125357
DTSTART:20210812T190000
DTEND:20210812T235900
SUMMARY:Plan Commission Meeting
DESCRIPTION:<p><a href="https://bartlett.prod-as.govaccess.org/home/showpublisheddocument/12017/637638338243100000" target="_blank"><strong>Plan Commission Meeting Packet</strong></a></p><p><strong><a href="https://youtu.be/8oYqHAK-7W4" target="_blank">Plan Commission Meeting Audio Recording</a></strong></p>
X-ALT-DESC;FMTTYPE=text/html:<p><a href="https://bartlett.prod-as.govaccess.org/home/showpublisheddocument/12017/637638338243100000" target="_blank"><strong>Plan Commission Meeting Packet</strong></a></p><p><strong><a href="https://youtu.be/8oYqHAK-7W4" target="_blank">Plan Commission Meeting Audio Recording</a></strong></p>
LOCATION:Bartlett Village Hall\, 228 S. Main Street Bartlett\, Illinois 60103
CLASS:PUBLIC
END:VEVENT
END:VCALENDAR
