BEGIN:VCALENDAR
VERSION:2.0
PRODID:Village of Bartlett Calendar Creator
METHOD:PUBLISH
BEGIN:VEVENT
DTSTAMP:20210727T135616
DTSTART:20210922T180000
DTEND:20210922T191500
SUMMARY:Bingo Night
DESCRIPTION:Enjoy a night out of the house&nbsp;that is affordable, fun, family-oriented&nbsp;and includes BINGO. Open&nbsp;to ages 3 through adult. Children&nbsp;must be accompanied by an adult.&nbsp;Winners must be 18 years or older&nbsp;to claim prizes. Prizes include various&nbsp;items, passes and gift cards.&nbsp;Pre-registration is not required.&nbsp;Each card is $1.<br>
X-ALT-DESC;FMTTYPE=text/html:Enjoy a night out of the house&nbsp;that is affordable, fun, family-oriented&nbsp;and includes BINGO. Open&nbsp;to ages 3 through adult. Children&nbsp;must be accompanied by an adult.&nbsp;Winners must be 18 years or older&nbsp;to claim prizes. Prizes include various&nbsp;items, passes and gift cards.&nbsp;Pre-registration is not required.&nbsp;Each card is $1.<br>
LOCATION:Bartlett Community Center\, 700 S. Bartlett Road Bartlett\, Illinois 60103
CLASS:PUBLIC
END:VEVENT
END:VCALENDAR
