BEGIN:VCALENDAR
VERSION:2.0
PRODID:Village of Bartlett Calendar Creator
METHOD:PUBLISH
BEGIN:VEVENT
DTSTAMP:20210819T125636
DTSTART:20210720T190000
DTEND:20210720T235900
SUMMARY:Committee of the Whole Meeting
DESCRIPTION:<p><a href="https://bartlett.prod-as.govaccess.org/home/showpublisheddocument/11993/637619286862200000" target="_blank"><strong>Committee of the Whole Meeting Packet</strong></a></p><p><strong><a href="https://youtu.be/LCh5rUb_7FY" target="_blank">Committee of the Whole Meeting Audio Recording</a></strong></p><p><strong><br>Please click the link below to join the webinar:<br><a href="https://us06web.zoom.us/j/85103793345" target="_blank">https://us06web.zoom.us/j/85103793345</a><br>Or One tap mobile :&nbsp;<br>&nbsp; &nbsp; US: +13126266799,,85103793345#&nbsp; or +19292056099,,85103793345#&nbsp;<br>Or Telephone:<br>&nbsp; &nbsp; Dial(for higher quality, dial a number based on your current location):<br>&nbsp; &nbsp; &nbsp; &nbsp; US: +1 312 626 6799&nbsp; or +1 929 205 6099&nbsp; or +1 301 715 8592&nbsp; or +1 253 215 8782&nbsp; or +1 346 248 7799&nbsp; or +1 669 900 6833&nbsp;<br>Webinar ID: 851 0379 3345<br>&nbsp; &nbsp; International numbers available: https://us06web.zoom.us/u/kbS2zFqs13<br></strong></p>
X-ALT-DESC;FMTTYPE=text/html:<p><a href="https://bartlett.prod-as.govaccess.org/home/showpublisheddocument/11993/637619286862200000" target="_blank"><strong>Committee of the Whole Meeting Packet</strong></a></p><p><strong><a href="https://youtu.be/LCh5rUb_7FY" target="_blank">Committee of the Whole Meeting Audio Recording</a></strong></p><p><strong><br>Please click the link below to join the webinar:<br><a href="https://us06web.zoom.us/j/85103793345" target="_blank">https://us06web.zoom.us/j/85103793345</a><br>Or One tap mobile :&nbsp;<br>&nbsp; &nbsp; US: +13126266799,,85103793345#&nbsp; or +19292056099,,85103793345#&nbsp;<br>Or Telephone:<br>&nbsp; &nbsp; Dial(for higher quality, dial a number based on your current location):<br>&nbsp; &nbsp; &nbsp; &nbsp; US: +1 312 626 6799&nbsp; or +1 929 205 6099&nbsp; or +1 301 715 8592&nbsp; or +1 253 215 8782&nbsp; or +1 346 248 7799&nbsp; or +1 669 900 6833&nbsp;<br>Webinar ID: 851 0379 3345<br>&nbsp; &nbsp; International numbers available: https://us06web.zoom.us/u/kbS2zFqs13<br></strong></p>
LOCATION:Bartlett Village Hall\, 228 S. Main Street Bartlett\, Illinois 60103
CLASS:PUBLIC
END:VEVENT
END:VCALENDAR
