BEGIN:VCALENDAR
VERSION:2.0
PRODID:Village of Bartlett Calendar Creator
METHOD:PUBLISH
BEGIN:VEVENT
DTSTAMP:20210614T084209
DTSTART:20210630T000000
DTEND:20210630T235900
SUMMARY:San-a-Can Fundraiser for Bartlett Raiders
DESCRIPTION:<p>Sign up date - Monday, 6/28<br>Cleaning date - Wednesday, 6/30<br>Pricing - $35 for 2 cans cleaned/$10 additional per can for third or more;&nbsp;20% goes back to Bartlett Raiders.&nbsp;</p><p>Participants sign up for the Raiders fundraiser cleaning date at <strong><a href="https://www.san-a-can.com/signup" target="_blank">www.san-a-can.com/signup</a></strong>. Mention the fundraiser in the comments section of your online request form.</p>
X-ALT-DESC;FMTTYPE=text/html:<p>Sign up date - Monday, 6/28<br>Cleaning date - Wednesday, 6/30<br>Pricing - $35 for 2 cans cleaned/$10 additional per can for third or more;&nbsp;20% goes back to Bartlett Raiders.&nbsp;</p><p>Participants sign up for the Raiders fundraiser cleaning date at <strong><a href="https://www.san-a-can.com/signup" target="_blank">www.san-a-can.com/signup</a></strong>. Mention the fundraiser in the comments section of your online request form.</p>
LOCATION:
CLASS:PUBLIC
END:VEVENT
END:VCALENDAR
