BEGIN:VCALENDAR
VERSION:2.0
PRODID:Village of Bartlett Calendar Creator
METHOD:PUBLISH
BEGIN:VEVENT
DTSTAMP:20210716T070350
DTSTART:20210801T130000
DTEND:20210801T235900
SUMMARY:NNO Putt, Chip & Drive Crime Out Family Golf Event
DESCRIPTION:
X-ALT-DESC;FMTTYPE=text/html:
LOCATION:Bartlett Hills Golf Club\, 800 W. Oneida Ave Bartlett\, Illinois 60103
CLASS:PUBLIC
END:VEVENT
END:VCALENDAR
