BEGIN:VCALENDAR
VERSION:2.0
PRODID:Village of Bartlett Calendar Creator
METHOD:PUBLISH
BEGIN:VEVENT
DTSTAMP:20210615T141939
DTSTART:20210627T140000
DTEND:20210627T160000
SUMMARY:Global Arts Sundays Concert
DESCRIPTION:<p>These free Arts in Bartlett events are made possible by grants&nbsp;from the Village of Bartlett, Hanover Township and Illinois Arts Council. Learn more at: facebook.com/BartlettGlobalArtsFest; on the Arts in Bartlett website, <a href="https://www.artsinbartlett.org/" target="_blank">www.artsinbartlett.org</a>; phone 630.372.4152; or email <a href="mailto:&#97;&#114;&#116;&#115;&#105;&#110;&#98;&#97;&#114;&#116;&#108;&#101;&#116;&#116;&#64;&#103;&#109;&#97;&#105;&#108;&#46;&#99;&#111;&#109;">artsinbartlett@gmail.com</a></p><p><strong>2 to 3:30 p.m.<br></strong>Rick Lindy and the Wild Ones Band performing a slate of legendary artists from the golden era of rock n’ roll with hints of rock-a-billy, surf, ‘50s, ‘60s, and Americana hits from artists like Elvis, Roy Orbison, Jerry Lee Lewis, Chuck Berry, Buddy Holly, Bill Hayley and more.&nbsp;</p><p><strong>3:30 to 4 p.m.<br></strong>Grupo Folklorico Quetzal offers a memorable performance featuring colorful costumes and traditional dance from countries through-out Latin American – Grupo Folklorico Quetzal es un grupo de danza folklorica de Latinoamerica&nbsp; </p>
X-ALT-DESC;FMTTYPE=text/html:<p>These free Arts in Bartlett events are made possible by grants&nbsp;from the Village of Bartlett, Hanover Township and Illinois Arts Council. Learn more at: facebook.com/BartlettGlobalArtsFest; on the Arts in Bartlett website, <a href="https://www.artsinbartlett.org/" target="_blank">www.artsinbartlett.org</a>; phone 630.372.4152; or email <a href="mailto:&#97;&#114;&#116;&#115;&#105;&#110;&#98;&#97;&#114;&#116;&#108;&#101;&#116;&#116;&#64;&#103;&#109;&#97;&#105;&#108;&#46;&#99;&#111;&#109;">artsinbartlett@gmail.com</a></p><p><strong>2 to 3:30 p.m.<br></strong>Rick Lindy and the Wild Ones Band performing a slate of legendary artists from the golden era of rock n’ roll with hints of rock-a-billy, surf, ‘50s, ‘60s, and Americana hits from artists like Elvis, Roy Orbison, Jerry Lee Lewis, Chuck Berry, Buddy Holly, Bill Hayley and more.&nbsp;</p><p><strong>3:30 to 4 p.m.<br></strong>Grupo Folklorico Quetzal offers a memorable performance featuring colorful costumes and traditional dance from countries through-out Latin American – Grupo Folklorico Quetzal es un grupo de danza folklorica de Latinoamerica&nbsp; </p>
LOCATION:Streets of Bartlett shopping center\, 399 Bartlett Plaza Bartlett\, Illinois 60103
CLASS:PUBLIC
END:VEVENT
END:VCALENDAR
