BEGIN:VCALENDAR
VERSION:2.0
PRODID:Village of Bartlett Calendar Creator
METHOD:PUBLISH
BEGIN:VEVENT
DTSTAMP:20210408T101355
DTSTART:20210316T180000
DTEND:20210316T235900
SUMMARY:Committee of the Whole Meeting
DESCRIPTION:<p><strong><a href="https://www.village.bartlett.il.us/home/showdocument?id=11717" target="_blank">NOTICE OF OPEN OR CLOSED PUBLIC MEETING BY AUDIO OR VIDEO CONFERENCE WITHOUT A PHYSICAL&nbsp;<br>QUORUM PURSUANT TO SECTION 7(e) OF THE OPEN MEETINGS ACT</a><br><br><a href="https://bartlett.prod-as.govaccess.org/home/showpublisheddocument/11727/637509825250470000" target="_blank">Committee of the Whole Meeting Packet</a></strong></p><p><strong><a href="https://www.youtube.com/watch?v=o4nlplZQxc0" target="_blank">Committee of the Whole Meeting&nbsp;</a><a href="https://www.youtube.com/watch?v=o4nlplZQxc0" target="_blank">Audio Recording</a></strong></p><p>When: March 16, 2021 06:00 PM Central Time (US and Canada)<br>Topic: Village of Bartlett Board &amp; Committee Meeting - March 16, 2021</p><p>Please click the link below to join the webinar:<br><a href="https://zoom.us/j/97641588452" target="_blank"><strong>https://zoom.us/j/97641588452</strong></a><br>Webinar ID: 976 4158 8452</p><p>Or iPhone one-tap : US: +13126266799,,97641588452#&nbsp; or +13017158592,,97641588452#<br><br>Or Telephone: Dial (for higher quality, dial a number based on your current location):<br>US: +1 312 626 6799&nbsp; or +1 301 715 8592&nbsp; or +1 929 205 6099&nbsp; or +1 346 248 7799&nbsp; or +1 669 900 6833&nbsp; or +1 253 215 8782</p><p>International numbers available:&nbsp;<a href="https://zoom.us/u/aAlfMizOH" target="_blank"><strong>https://zoom.us/u/aAlfMizOH</strong></a></p>
X-ALT-DESC;FMTTYPE=text/html:<p><strong><a href="https://www.village.bartlett.il.us/home/showdocument?id=11717" target="_blank">NOTICE OF OPEN OR CLOSED PUBLIC MEETING BY AUDIO OR VIDEO CONFERENCE WITHOUT A PHYSICAL&nbsp;<br>QUORUM PURSUANT TO SECTION 7(e) OF THE OPEN MEETINGS ACT</a><br><br><a href="https://bartlett.prod-as.govaccess.org/home/showpublisheddocument/11727/637509825250470000" target="_blank">Committee of the Whole Meeting Packet</a></strong></p><p><strong><a href="https://www.youtube.com/watch?v=o4nlplZQxc0" target="_blank">Committee of the Whole Meeting&nbsp;</a><a href="https://www.youtube.com/watch?v=o4nlplZQxc0" target="_blank">Audio Recording</a></strong></p><p>When: March 16, 2021 06:00 PM Central Time (US and Canada)<br>Topic: Village of Bartlett Board &amp; Committee Meeting - March 16, 2021</p><p>Please click the link below to join the webinar:<br><a href="https://zoom.us/j/97641588452" target="_blank"><strong>https://zoom.us/j/97641588452</strong></a><br>Webinar ID: 976 4158 8452</p><p>Or iPhone one-tap : US: +13126266799,,97641588452#&nbsp; or +13017158592,,97641588452#<br><br>Or Telephone: Dial (for higher quality, dial a number based on your current location):<br>US: +1 312 626 6799&nbsp; or +1 301 715 8592&nbsp; or +1 929 205 6099&nbsp; or +1 346 248 7799&nbsp; or +1 669 900 6833&nbsp; or +1 253 215 8782</p><p>International numbers available:&nbsp;<a href="https://zoom.us/u/aAlfMizOH" target="_blank"><strong>https://zoom.us/u/aAlfMizOH</strong></a></p>
LOCATION:Bartlett Village Hall\, 228 S. Main Street Bartlett\, Illinois 60103
CLASS:PUBLIC
END:VEVENT
END:VCALENDAR
